Workbook
Name Bias: OFFSET('NO TOCARListas'!$H$2,0,0,COUNTA('NO TOCARListas'!$H:$H)-1,1)
Name correction: 'NO TOCARListas'!$O$2:$O$6
Name cost: 'NO TOCARListas'!$Q$2:$Q$6
Name Likelihood: 'NO TOCARListas'!$K$2:$K$6
Name Occurrences: 'NO TOCARListas'!$L$2:$L$6
Name opprep: 'NO TOCARListas'!$R$2:$R$6
Name Party: OFFSET(#REF!,0,0,COUNTA(#REF!)-1,1)
Name Potential: 'NO TOCARListas'!$M$2:$M$6
Name Priority: OFFSET('NO TOCARListas'!$F$2,0,0,COUNTA('NO TOCARListas'!$F:$F)-1,1)
Name Process: OFFSET('NO TOCARListas'!$I$2,0,0,COUNTA('NO TOCARListas'!$I:$I)-1,1)
Name riskrep: 'NO TOCARListas'!$P$2:$P$6
Name score: 'NO TOCARListas'!#REF!
Name Success: 'NO TOCARListas'!$T$2:$T$6
Name Treatment: OFFSET('NO TOCARListas'!$G$2,0,0,COUNTA('NO TOCARListas'!$G:$G)-1,1)
Name Type: OFFSET('NO TOCARListas'!$E$2,0,0,COUNTA('NO TOCARListas'!$E:$E)-1,1)
Name Violation: 'NO TOCARListas'!$N$2:$N$6

Sheet Riesgos 
A3: MAPA DE RIESGOS DE CORRUPCION
A4: No | B4: Proceso | C4: Riesgo | D4: Probabilidad | F4: Calificación de la Prob. | G4: Consecuencias | M4: Calificación de la Consecuencia | N4: Factor de riesgo (Prob x Cons) | O4: Plan de Mitigación
D5: Probabilidad | E5: Ocurrencias previas | G5: Potencial perdida de contratos | H5: Potenciales riesgos a la salud humana | I5: Incapacidad para cumplir con términos de contratos / Requisitos | J5: Potencial violación de regulaciones | K5: Impacto en la reputación de la organización | L5: Costo Est. De corrección | O5: ='NO TOCARListas'!V18 -> (Requerido para los factores de riesgo >=8, sugerido para factores de riesgo entre 5 y 8)
A6: 1 | B6: Gestión Documental | C6: Pérdida intencional o fortuita de la información física y/o digital | D6: Posible que ocurra | E6: Se ha producido en los últimos 2 años. | F6: =IF($D6="","",AVERAGE(VLOOKUP($D6,'NO TOCARListas'!$K$1:$S$6,9,0),(VLOOKUP($E6,'NO TOCARListas'!$L$1:$S$6,8,0)))) -> 3 | G6: No hay / No Aplica | H6: No hay / No Aplica | I6: No hay / No Aplica | J6: Investigación disciplinaria | K6: Severa/Usuarios región | L6: < $100,000 | M6: =IF($G6="","",(AVERAGE(VLOOKUP($G6,'NO TOCARListas'!$M$1:$S$6,7,0),VLOOKUP($H6,'NO TOCARListas'!$M$1:$S$6,7,0),VLOOKUP($I6,'NO TOCARListas'!$M$1:$S$6,7,0),VLOOKUP($J6,'NO TOCARListas'!$N$1:$S$6,6,0),VLOOKUP($K6,'NO TOCARListas'!$P$1:$S$6,4,0),VLOOKUP($L6,'NO TOCARListas'!$O$1:$S$6,5,0)))) -> 2.1666667 | N6: =IF($D6="","",$F6*$M6) -> 6.5 | O6: Asignación de claves de acceso para el manejo información digital. Control de préstamo documental. Definir e implementar política de seguridad de la información.
A7: =A6+1 -> 2 | B7: Control Politico- Administrativo | C7: Falta de independencia de la corporación para poner en discusión o consideración las objeciones en los proyectos de ordenanza | D7: Posible que ocurra | E7: Se ha producido en los últimos 2 años. | F7: =IF($D7="","",AVERAGE(VLOOKUP($D7,'NO TOCARListas'!$K$1:$S$6,9,0),(VLOOKUP($E7,'NO TOCARListas'!$L$1:$S$6,8,0)))) -> 3 | G7: Moderado | H7: No hay / No Aplica | I7: No hay / No Aplica | J7: Investigación sanción | K7: Severa/Usuarios región | L7: > $100,000 | M7: =IF($G7="","",(AVERAGE(VLOOKUP($G7,'NO TOCARListas'!$M$1:$S$6,7,0),VLOOKUP($H7,'NO TOCARListas'!$M$1:$S$6,7,0),VLOOKUP($I7,'NO TOCARListas'!$M$1:$S$6,7,0),VLOOKUP($J7,'NO TOCARListas'!$N$1:$S$6,6,0),VLOOKUP($K7,'NO TOCARListas'!$P$1:$S$6,4,0),VLOOKUP($L7,'NO TOCARListas'!$O$1:$S$6,5,0)))) -> 3 | N7: =IF($D7="","",$F7*$M7) -> 9 | O7: Actualización de Código de Ética.Realizar jornadas de socialización e interiorización de los valores éticos de la corporación.
A8: =A7+1 -> 3 | B8: Financiero y presupuestal | C8: Destinación indebida de recursos públicos | D8: Posible que ocurra | E8: Se ha producido en los últimos 2 años. | F8: =IF($D8="","",AVERAGE(VLOOKUP($D8,'NO TOCARListas'!$K$1:$S$6,9,0),(VLOOKUP($E8,'NO TOCARListas'!$L$1:$S$6,8,0)))) -> 3 | G8: No hay / No Aplica | H8: No hay / No Aplica | I8: Menor | J8: Investigación sanción | K8: Severa/Usuarios región | L8: < $100,000 | M8: =IF($G8="","",(AVERAGE(VLOOKUP($G8,'NO TOCARListas'!$M$1:$S$6,7,0),VLOOKUP($H8,'NO TOCARListas'!$M$1:$S$6,7,0),VLOOKUP($I8,'NO TOCARListas'!$M$1:$S$6,7,0),VLOOKUP($J8,'NO TOCARListas'!$N$1:$S$6,6,0),VLOOKUP($K8,'NO TOCARListas'!$P$1:$S$6,4,0),VLOOKUP($L8,'NO TOCARListas'!$O$1:$S$6,5,0)))) -> 2.6666667 | N8: =IF($D8="","",$F8*$M8) -> 8 | O8: Capacitación al personal en normatividad financiera y presupuestal. Adquisición de modulo financiero.
A9: =A8+1 -> 4 | B9: Adquisicion de Bienes y Servicios | C9: Direccionamiento de contratación en favor de un tercero | D9: Posible que ocurra | E9: Se ha producido en los últimos 2 años. | F9: =IF($D9="","",AVERAGE(VLOOKUP($D9,'NO TOCARListas'!$K$1:$S$6,9,0),(VLOOKUP($E9,'NO TOCARListas'!$L$1:$S$6,8,0)))) -> 3 | G9: Moderado | H9: No hay / No Aplica | I9: Moderado | J9: Investigación disciplinaria | K9: Severa/Usuarios región | L9: < $100,000 | M9: =IF($G9="","",(AVERAGE(VLOOKUP($G9,'NO TOCARListas'!$M$1:$S$6,7,0),VLOOKUP($H9,'NO TOCARListas'!$M$1:$S$6,7,0),VLOOKUP($I9,'NO TOCARListas'!$M$1:$S$6,7,0),VLOOKUP($J9,'NO TOCARListas'!$N$1:$S$6,6,0),VLOOKUP($K9,'NO TOCARListas'!$P$1:$S$6,4,0),VLOOKUP($L9,'NO TOCARListas'!$O$1:$S$6,5,0)))) -> 2.8333333 | N9: =IF($D9="","",$F9*$M9) -> 8.5 | O9: Elaboración de Manual de contratación y procedimientos asociados.
F10: =IF($D10="","",AVERAGE(VLOOKUP($D10,'NO TOCARListas'!$K$1:$S$6,9,0),(VLOOKUP($E10,'NO TOCARListas'!$L$1:$S$6,8,0)))) | M10: =IF($G10="","",(AVERAGE(VLOOKUP($G10,'NO TOCARListas'!$M$1:$S$6,7,0),VLOOKUP($H10,'NO TOCARListas'!$M$1:$S$6,7,0),VLOOKUP($I10,'NO TOCARListas'!$M$1:$S$6,7,0),VLOOKUP($J10,'NO TOCARListas'!$N$1:$S$6,6,0),VLOOKUP($K10,'NO TOCARListas'!$P$1:$S$6,4,0),VLOOKUP($L10,'NO TOCARListas'!$O$1:$S$6,5,0)))) | N10: =IF($D10="","",$F10*$M10)
F11: =IF($D11="","",AVERAGE(VLOOKUP($D11,'NO TOCARListas'!$K$1:$S$6,9,0),(VLOOKUP($E11,'NO TOCARListas'!$L$1:$S$6,8,0)))) | M11: =IF($G11="","",(AVERAGE(VLOOKUP($G11,'NO TOCARListas'!$M$1:$S$6,7,0),VLOOKUP($H11,'NO TOCARListas'!$M$1:$S$6,7,0),VLOOKUP($I11,'NO TOCARListas'!$M$1:$S$6,7,0),VLOOKUP($J11,'NO TOCARListas'!$N$1:$S$6,6,0),VLOOKUP($K11,'NO TOCARListas'!$P$1:$S$6,4,0),VLOOKUP($L11,'NO TOCARListas'!$O$1:$S$6,5,0)))) | N11: =IF($D11="","",$F11*$M11)
F12: =IF($D12="","",AVERAGE(VLOOKUP($D12,'NO TOCARListas'!$K$1:$S$6,9,0),(VLOOKUP($E12,'NO TOCARListas'!$L$1:$S$6,8,0)))) | M12: =IF($G12="","",(AVERAGE(VLOOKUP($G12,'NO TOCARListas'!$M$1:$S$6,7,0),VLOOKUP($H12,'NO TOCARListas'!$M$1:$S$6,7,0),VLOOKUP($I12,'NO TOCARListas'!$M$1:$S$6,7,0),VLOOKUP($J12,'NO TOCARListas'!$N$1:$S$6,6,0),VLOOKUP($K12,'NO TOCARListas'!$P$1:$S$6,4,0),VLOOKUP($L12,'NO TOCARListas'!$O$1:$S$6,5,0)))) | N12: =IF($D12="","",$F12*$M12)
F13: =IF($D13="","",AVERAGE(VLOOKUP($D13,'NO TOCARListas'!$K$1:$S$6,9,0),(VLOOKUP($E13,'NO TOCARListas'!$L$1:$S$6,8,0)))) | M13: =IF($G13="","",(AVERAGE(VLOOKUP($G13,'NO TOCARListas'!$M$1:$S$6,7,0),VLOOKUP($H13,'NO TOCARListas'!$M$1:$S$6,7,0),VLOOKUP($I13,'NO TOCARListas'!$M$1:$S$6,7,0),VLOOKUP($J13,'NO TOCARListas'!$N$1:$S$6,6,0),VLOOKUP($K13,'NO TOCARListas'!$P$1:$S$6,4,0),VLOOKUP($L13,'NO TOCARListas'!$O$1:$S$6,5,0)))) | N13: =IF($D13="","",$F13*$M13)
F14: =IF($D14="","",AVERAGE(VLOOKUP($D14,'NO TOCARListas'!$K$1:$S$6,9,0),(VLOOKUP($E14,'NO TOCARListas'!$L$1:$S$6,8,0)))) | M14: =IF($G14="","",(AVERAGE(VLOOKUP($G14,'NO TOCARListas'!$M$1:$S$6,7,0),VLOOKUP($H14,'NO TOCARListas'!$M$1:$S$6,7,0),VLOOKUP($I14,'NO TOCARListas'!$M$1:$S$6,7,0),VLOOKUP($J14,'NO TOCARListas'!$N$1:$S$6,6,0),VLOOKUP($K14,'NO TOCARListas'!$P$1:$S$6,4,0),VLOOKUP($L14,'NO TOCARListas'!$O$1:$S$6,5,0)))) | N14: =IF($D14="","",$F14*$M14)
F15: =IF($D15="","",AVERAGE(VLOOKUP($D15,'NO TOCARListas'!$K$1:$S$6,9,0),(VLOOKUP($E15,'NO TOCARListas'!$L$1:$S$6,8,0)))) | M15: =IF($G15="","",(AVERAGE(VLOOKUP($G15,'NO TOCARListas'!$M$1:$S$6,7,0),VLOOKUP($H15,'NO TOCARListas'!$M$1:$S$6,7,0),VLOOKUP($I15,'NO TOCARListas'!$M$1:$S$6,7,0),VLOOKUP($J15,'NO TOCARListas'!$N$1:$S$6,6,0),VLOOKUP($K15,'NO TOCARListas'!$P$1:$S$6,4,0),VLOOKUP($L15,'NO TOCARListas'!$O$1:$S$6,5,0)))) | N15: =IF($D15="","",$F15*$M15)
F16: =IF($D16="","",AVERAGE(VLOOKUP($D16,'NO TOCARListas'!$K$1:$S$6,9,0),(VLOOKUP($E16,'NO TOCARListas'!$L$1:$S$6,8,0)))) | M16: =IF($G16="","",(AVERAGE(VLOOKUP($G16,'NO TOCARListas'!$M$1:$S$6,7,0),VLOOKUP($H16,'NO TOCARListas'!$M$1:$S$6,7,0),VLOOKUP($I16,'NO TOCARListas'!$M$1:$S$6,7,0),VLOOKUP($J16,'NO TOCARListas'!$N$1:$S$6,6,0),VLOOKUP($K16,'NO TOCARListas'!$P$1:$S$6,4,0),VLOOKUP($L16,'NO TOCARListas'!$O$1:$S$6,5,0)))) | N16: =IF($D16="","",$F16*$M16)
F17: =IF($D17="","",AVERAGE(VLOOKUP($D17,'NO TOCARListas'!$K$1:$S$6,9,0),(VLOOKUP($E17,'NO TOCARListas'!$L$1:$S$6,8,0)))) | M17: =IF($G17="","",(AVERAGE(VLOOKUP($G17,'NO TOCARListas'!$M$1:$S$6,7,0),VLOOKUP($H17,'NO TOCARListas'!$M$1:$S$6,7,0),VLOOKUP($I17,'NO TOCARListas'!$M$1:$S$6,7,0),VLOOKUP($J17,'NO TOCARListas'!$N$1:$S$6,6,0),VLOOKUP($K17,'NO TOCARListas'!$P$1:$S$6,4,0),VLOOKUP($L17,'NO TOCARListas'!$O$1:$S$6,5,0)))) | N17: =IF($D17="","",$F17*$M17)
F18: =IF($D18="","",AVERAGE(VLOOKUP($D18,'NO TOCARListas'!$K$1:$S$6,9,0),(VLOOKUP($E18,'NO TOCARListas'!$L$1:$S$6,8,0)))) | M18: =IF($G18="","",(AVERAGE(VLOOKUP($G18,'NO TOCARListas'!$M$1:$S$6,7,0),VLOOKUP($H18,'NO TOCARListas'!$M$1:$S$6,7,0),VLOOKUP($I18,'NO TOCARListas'!$M$1:$S$6,7,0),VLOOKUP($J18,'NO TOCARListas'!$N$1:$S$6,6,0),VLOOKUP($K18,'NO TOCARListas'!$P$1:$S$6,4,0),VLOOKUP($L18,'NO TOCARListas'!$O$1:$S$6,5,0)))) | N18: =IF($D18="","",$F18*$M18)
F19: =IF($D19="","",AVERAGE(VLOOKUP($D19,'NO TOCARListas'!$K$1:$S$6,9,0),(VLOOKUP($E19,'NO TOCARListas'!$L$1:$S$6,8,0)))) | M19: =IF($G19="","",(AVERAGE(VLOOKUP($G19,'NO TOCARListas'!$M$1:$S$6,7,0),VLOOKUP($H19,'NO TOCARListas'!$M$1:$S$6,7,0),VLOOKUP($I19,'NO TOCARListas'!$M$1:$S$6,7,0),VLOOKUP($J19,'NO TOCARListas'!$N$1:$S$6,6,0),VLOOKUP($K19,'NO TOCARListas'!$P$1:$S$6,4,0),VLOOKUP($L19,'NO TOCARListas'!$O$1:$S$6,5,0)))) | N19: =IF($D19="","",$F19*$M19)
F20: =IF($D20="","",AVERAGE(VLOOKUP($D20,'NO TOCARListas'!$K$1:$S$6,9,0),(VLOOKUP($E20,'NO TOCARListas'!$L$1:$S$6,8,0)))) | M20: =IF($G20="","",(AVERAGE(VLOOKUP($G20,'NO TOCARListas'!$M$1:$S$6,7,0),VLOOKUP($H20,'NO TOCARListas'!$M$1:$S$6,7,0),VLOOKUP($I20,'NO TOCARListas'!$M$1:$S$6,7,0),VLOOKUP($J20,'NO TOCARListas'!$N$1:$S$6,6,0),VLOOKUP($K20,'NO TOCARListas'!$P$1:$S$6,4,0),VLOOKUP($L20,'NO TOCARListas'!$O$1:$S$6,5,0)))) | N20: =IF($D20="","",$F20*$M20)
F21: =IF($D21="","",AVERAGE(VLOOKUP($D21,'NO TOCARListas'!$K$1:$S$6,9,0),(VLOOKUP($E21,'NO TOCARListas'!$L$1:$S$6,8,0)))) | M21: =IF($G21="","",(AVERAGE(VLOOKUP($G21,'NO TOCARListas'!$M$1:$S$6,7,0),VLOOKUP($H21,'NO TOCARListas'!$M$1:$S$6,7,0),VLOOKUP($I21,'NO TOCARListas'!$M$1:$S$6,7,0),VLOOKUP($J21,'NO TOCARListas'!$N$1:$S$6,6,0),VLOOKUP($K21,'NO TOCARListas'!$P$1:$S$6,4,0),VLOOKUP($L21,'NO TOCARListas'!$O$1:$S$6,5,0)))) | N21: =IF($D21="","",$F21*$M21)
... F102: =IF($D102="","",AVERAGE(VLOOKUP($D102,'NO TOCARListas'!$K$1:$S$6,9,0),(VLOOKUP($E102,'NO TOCARListas'!$L$1:$S$6,8,0)))) | M102: =IF($G102="","",(AVERAGE(VLOOKUP($G102,'NO TOCARListas'!$M$1:$S$6,7,0),VLOOKUP($H102,'NO TOCARListas'!$M$1:$S$6,7,0),VLOOKUP($I102,'NO TOCARListas'!$M$1:$S$6,7,0),VLOOKUP($J102,'NO TOCARListas'!$N$1:$S$6,6,0),VLOOKUP($K102,'NO TOCARListas'!$P$1:$S$6,4,0),VLOOKUP($L102,'NO TOCARListas'!$O$1:$S$6,5,0)))) | N102: =IF($D102="","",$F102*$M102)

Sheet Oportunidades
A2: Registro de oportunidades | O2: Número de acciones de mejora abiertas: | P2: =COUNTIF(Q:Q,"OPEN") -> 0
A3: No | B3: Proceso | C3: Oportunidades | D3: Probabilidad (de lograr la oportunidad) | F3: Calificación Prob. | G3: Beneficios (si la oportunidad es tomada) | M3: Calificación de los Beneficios | N3: Factor de oportunidad (Prob x Ben) | O3: ='NO TOCARListas'!V24 -> Plan de persecución de oportunidades (sugerida para factor de oportunidades >=5) Puede referenciar a documentos de planificación externa | P3: ¿Tuvieron éxito las acciones tomadas? | Q3: Estado
D4: Probabilidad | E4: Ocurrencias previas | G4: Potencial para nuevos negocios | H4: Potencial para expandir los negocios actuales | I4: Potencial para mejorar los cumplimientos legales | J4: Potencial para mejorar los procesos internos del SGC | K4: Mejora de la reputación de la organización | L4: Potential Cost of Implementation
A5: 1 | B5: Direccion Estratégico | C5: Incremento al valor de la tarjeta de Turismo por encima del iPC | D5: Es casi seguro que ocurra | E5: Se ha producido mas de una vez en el año. | F5: =IF($D5="","",AVERAGE(VLOOKUP($D5,'NO TOCARListas'!$K$1:$S$6,9,0),(VLOOKUP($E5,'NO TOCARListas'!$L$1:$S$6,8,0)))) -> 5 | G5: Alto | H5: Alto | I5: No hay / No Aplica | J5: No hay / No Aplica | K5: Gran impacto | L5: > $100,000 | M5: =IF($G5="","",(AVERAGE(VLOOKUP($G5,'NO TOCARListas'!$M$1:$S$6,7,0),VLOOKUP($H5,'NO TOCARListas'!$M$1:$S$6,7,0),VLOOKUP($I5,'NO TOCARListas'!$M$1:$S$6,7,0),VLOOKUP($J5,'NO TOCARListas'!$M$1:$S$6,7,0),VLOOKUP($K5,'NO TOCARListas'!$R$1:$S$6,2,0),VLOOKUP($L5,'NO TOCARListas'!$Q$1:$S$6,3,0)))) -> 2.8333333 | N5: =IF($D5="","",$F5*$M5) -> 14.166667 | O5: Ejercer el control politico para garantizar el uso y aplicación de estos recursos. | P5: Se trataron algunas expectativas | Q5: ABIERTA
A6: =A5+1 -> 2 | B6: Comunicaciones y Relaciones Corporativas | C6: Mayor receptividad de la comunidad hacia la Asamblea | D6: Probable que ocurra | E6: Se ha producido al menos de una vez en los últimos 2 años. | F6: =IF($D6="","",AVERAGE(VLOOKUP($D6,'NO TOCARListas'!$K$1:$S$6,9,0),(VLOOKUP($E6,'NO TOCARListas'!$L$1:$S$6,8,0)))) -> 4 | G6: No hay / No Aplica | H6: No hay / No Aplica | I6: Alto | J6: Moderado | K6: Buen impacto | L6: > $100,000 | M6: =IF($G6="","",(AVERAGE(VLOOKUP($G6,'NO TOCARListas'!$M$1:$S$6,7,0),VLOOKUP($H6,'NO TOCARListas'!$M$1:$S$6,7,0),VLOOKUP($I6,'NO TOCARListas'!$M$1:$S$6,7,0),VLOOKUP($J6,'NO TOCARListas'!$M$1:$S$6,7,0),VLOOKUP($K6,'NO TOCARListas'!$R$1:$S$6,2,0),VLOOKUP($L6,'NO TOCARListas'!$Q$1:$S$6,3,0)))) -> 2.5 | N6: =IF($D6="","",$F6*$M6) -> 10 | O6: Visitas a los barrios, página Web interactiva, Noticiero de la Asamblea todos los miercoles. | P6: Se trataron algunas expectativas | Q6: ABIERTA
A7: =A6+1 -> 3 | B7: Direccion Estratégico | C7: Las facultades especiales que otorga la Ley 47 de 1993 | D7: Posible que ocurra | E7: Se ha producido en los últimos 2 años. | F7: =IF($D7="","",AVERAGE(VLOOKUP($D7,'NO TOCARListas'!$K$1:$S$6,9,0),(VLOOKUP($E7,'NO TOCARListas'!$L$1:$S$6,8,0)))) -> 3 | G7: Alto | H7: Alto | I7: Alto | J7: No hay / No Aplica | K7: Buen impacto | L7: > $100,000 | M7: =IF($G7="","",(AVERAGE(VLOOKUP($G7,'NO TOCARListas'!$M$1:$S$6,7,0),VLOOKUP($H7,'NO TOCARListas'!$M$1:$S$6,7,0),VLOOKUP($I7,'NO TOCARListas'!$M$1:$S$6,7,0),VLOOKUP($J7,'NO TOCARListas'!$M$1:$S$6,7,0),VLOOKUP($K7,'NO TOCARListas'!$R$1:$S$6,2,0),VLOOKUP($L7,'NO TOCARListas'!$Q$1:$S$6,3,0)))) -> 3.1666667 | N7: =IF($D7="","",$F7*$M7) -> 9.5 | O7: Presentación de proyectos de ordenannzas que regule en materia fiscal en beneficio del Departamento | P7: Se trataron algunas expectativas | Q7: ABIERTA
A8: =A7+1 -> 4 | B8: Infraestructura | C8: Los avances en tecnología | D8: Probable que ocurra | E8: Se ha producido al menos de una vez en los últimos 2 años. | F8: =IF($D8="","",AVERAGE(VLOOKUP($D8,'NO TOCARListas'!$K$1:$S$6,9,0),(VLOOKUP($E8,'NO TOCARListas'!$L$1:$S$6,8,0)))) -> 4 | G8: No hay / No Aplica | H8: No hay / No Aplica | I8: Alto | J8: Alto | K8: Buen impacto | L8: > $100,000 | M8: =IF($G8="","",(AVERAGE(VLOOKUP($G8,'NO TOCARListas'!$M$1:$S$6,7,0),VLOOKUP($H8,'NO TOCARListas'!$M$1:$S$6,7,0),VLOOKUP($I8,'NO TOCARListas'!$M$1:$S$6,7,0),VLOOKUP($J8,'NO TOCARListas'!$M$1:$S$6,7,0),VLOOKUP($K8,'NO TOCARListas'!$R$1:$S$6,2,0),VLOOKUP($L8,'NO TOCARListas'!$Q$1:$S$6,3,0)))) -> 2.6666667 | N8: =IF($D8="","",$F8*$M8) -> 10.666667 | O8: Adquirir tecnologias de punta (Plan de Compras) | P8: Se trataron todas las expectativas | Q8: ABIERTA
A9: 5 | B9: Adquisicion de bienes y servicios | C9: La necesidad de reemplazar el proceso de comunicaciones y relaciones corporativas por TIC a nivel estrategico, garantiza mayor recurso para su desarrollo | D9: Probable que ocurra | E9: Se ha producido al menos de una vez en los últimos 2 años. | F9: =IF($D9="","",AVERAGE(VLOOKUP($D9,'NO TOCARListas'!$K$1:$S$6,9,0),(VLOOKUP($E9,'NO TOCARListas'!$L$1:$S$6,8,0)))) -> 4 | G9: No hay / No Aplica | H9: No hay / No Aplica | I9: Alto | J9: Alto | K9: Buen impacto | L9: > $100,000 | M9: =IF($G9="","",(AVERAGE(VLOOKUP($G9,'NO TOCARListas'!$M$1:$S$6,7,0),VLOOKUP($H9,'NO TOCARListas'!$M$1:$S$6,7,0),VLOOKUP($I9,'NO TOCARListas'!$M$1:$S$6,7,0),VLOOKUP($J9,'NO TOCARListas'!$M$1:$S$6,7,0),VLOOKUP($K9,'NO TOCARListas'!$R$1:$S$6,2,0),VLOOKUP($L9,'NO TOCARListas'!$Q$1:$S$6,3,0)))) -> 2.6666667 | N9: =IF($D9="","",$F9*$M9) -> 10.666667 | O9: Rediseño del Maspa de Procesos. | P9: Se trataron todas las expectativas | Q9: ABIERTA
F10: =IF($D10="","",AVERAGE(VLOOKUP($D10,'NO TOCARListas'!$K$1:$S$6,9,0),(VLOOKUP($E10,'NO TOCARListas'!$L$1:$S$6,8,0)))) | M10: =IF($G10="","",(AVERAGE(VLOOKUP($G10,'NO TOCARListas'!$M$1:$S$6,7,0),VLOOKUP($H10,'NO TOCARListas'!$M$1:$S$6,7,0),VLOOKUP($I10,'NO TOCARListas'!$M$1:$S$6,7,0),VLOOKUP($J10,'NO TOCARListas'!$M$1:$S$6,7,0),VLOOKUP($K10,'NO TOCARListas'!$R$1:$S$6,2,0),VLOOKUP($L10,'NO TOCARListas'!$Q$1:$S$6,3,0)))) | N10: =IF($D10="","",$F10*$M10)
F11: =IF($D11="","",AVERAGE(VLOOKUP($D11,'NO TOCARListas'!$K$1:$S$6,9,0),(VLOOKUP($E11,'NO TOCARListas'!$L$1:$S$6,8,0)))) | M11: =IF($G11="","",(AVERAGE(VLOOKUP($G11,'NO TOCARListas'!$M$1:$S$6,7,0),VLOOKUP($H11,'NO TOCARListas'!$M$1:$S$6,7,0),VLOOKUP($I11,'NO TOCARListas'!$M$1:$S$6,7,0),VLOOKUP($J11,'NO TOCARListas'!$M$1:$S$6,7,0),VLOOKUP($K11,'NO TOCARListas'!$R$1:$S$6,2,0),VLOOKUP($L11,'NO TOCARListas'!$Q$1:$S$6,3,0)))) | N11: =IF($D11="","",$F11*$M11)
F12: =IF($D12="","",AVERAGE(VLOOKUP($D12,'NO TOCARListas'!$K$1:$S$6,9,0),(VLOOKUP($E12,'NO TOCARListas'!$L$1:$S$6,8,0)))) | M12: =IF($G12="","",(AVERAGE(VLOOKUP($G12,'NO TOCARListas'!$M$1:$S$6,7,0),VLOOKUP($H12,'NO TOCARListas'!$M$1:$S$6,7,0),VLOOKUP($I12,'NO TOCARListas'!$M$1:$S$6,7,0),VLOOKUP($J12,'NO TOCARListas'!$M$1:$S$6,7,0),VLOOKUP($K12,'NO TOCARListas'!$R$1:$S$6,2,0),VLOOKUP($L12,'NO TOCARListas'!$Q$1:$S$6,3,0)))) | N12: =IF($D12="","",$F12*$M12)
F13: =IF($D13="","",AVERAGE(VLOOKUP($D13,'NO TOCARListas'!$K$1:$S$6,9,0),(VLOOKUP($E13,'NO TOCARListas'!$L$1:$S$6,8,0)))) | M13: =IF($G13="","",(AVERAGE(VLOOKUP($G13,'NO TOCARListas'!$M$1:$S$6,7,0),VLOOKUP($H13,'NO TOCARListas'!$M$1:$S$6,7,0),VLOOKUP($I13,'NO TOCARListas'!$M$1:$S$6,7,0),VLOOKUP($J13,'NO TOCARListas'!$M$1:$S$6,7,0),VLOOKUP($K13,'NO TOCARListas'!$R$1:$S$6,2,0),VLOOKUP($L13,'NO TOCARListas'!$Q$1:$S$6,3,0)))) | N13: =IF($D13="","",$F13*$M13)
F14: =IF($D14="","",AVERAGE(VLOOKUP($D14,'NO TOCARListas'!$K$1:$S$6,9,0),(VLOOKUP($E14,'NO TOCARListas'!$L$1:$S$6,8,0)))) | M14: =IF($G14="","",(AVERAGE(VLOOKUP($G14,'NO TOCARListas'!$M$1:$S$6,7,0),VLOOKUP($H14,'NO TOCARListas'!$M$1:$S$6,7,0),VLOOKUP($I14,'NO TOCARListas'!$M$1:$S$6,7,0),VLOOKUP($J14,'NO TOCARListas'!$M$1:$S$6,7,0),VLOOKUP($K14,'NO TOCARListas'!$R$1:$S$6,2,0),VLOOKUP($L14,'NO TOCARListas'!$Q$1:$S$6,3,0)))) | N14: =IF($D14="","",$F14*$M14)
F15: =IF($D15="","",AVERAGE(VLOOKUP($D15,'NO TOCARListas'!$K$1:$S$6,9,0),(VLOOKUP($E15,'NO TOCARListas'!$L$1:$S$6,8,0)))) | M15: =IF($G15="","",(AVERAGE(VLOOKUP($G15,'NO TOCARListas'!$M$1:$S$6,7,0),VLOOKUP($H15,'NO TOCARListas'!$M$1:$S$6,7,0),VLOOKUP($I15,'NO TOCARListas'!$M$1:$S$6,7,0),VLOOKUP($J15,'NO TOCARListas'!$M$1:$S$6,7,0),VLOOKUP($K15,'NO TOCARListas'!$R$1:$S$6,2,0),VLOOKUP($L15,'NO TOCARListas'!$Q$1:$S$6,3,0)))) | N15: =IF($D15="","",$F15*$M15)
F16: =IF($D16="","",AVERAGE(VLOOKUP($D16,'NO TOCARListas'!$K$1:$S$6,9,0),(VLOOKUP($E16,'NO TOCARListas'!$L$1:$S$6,8,0)))) | M16: =IF($G16="","",(AVERAGE(VLOOKUP($G16,'NO TOCARListas'!$M$1:$S$6,7,0),VLOOKUP($H16,'NO TOCARListas'!$M$1:$S$6,7,0),VLOOKUP($I16,'NO TOCARListas'!$M$1:$S$6,7,0),VLOOKUP($J16,'NO TOCARListas'!$M$1:$S$6,7,0),VLOOKUP($K16,'NO TOCARListas'!$R$1:$S$6,2,0),VLOOKUP($L16,'NO TOCARListas'!$Q$1:$S$6,3,0)))) | N16: =IF($D16="","",$F16*$M16)
F17: =IF($D17="","",AVERAGE(VLOOKUP($D17,'NO TOCARListas'!$K$1:$S$6,9,0),(VLOOKUP($E17,'NO TOCARListas'!$L$1:$S$6,8,0)))) | M17: =IF($G17="","",(AVERAGE(VLOOKUP($G17,'NO TOCARListas'!$M$1:$S$6,7,0),VLOOKUP($H17,'NO TOCARListas'!$M$1:$S$6,7,0),VLOOKUP($I17,'NO TOCARListas'!$M$1:$S$6,7,0),VLOOKUP($J17,'NO TOCARListas'!$M$1:$S$6,7,0),VLOOKUP($K17,'NO TOCARListas'!$R$1:$S$6,2,0),VLOOKUP($L17,'NO TOCARListas'!$Q$1:$S$6,3,0)))) | N17: =IF($D17="","",$F17*$M17)
F18: =IF($D18="","",AVERAGE(VLOOKUP($D18,'NO TOCARListas'!$K$1:$S$6,9,0),(VLOOKUP($E18,'NO TOCARListas'!$L$1:$S$6,8,0)))) | M18: =IF($G18="","",(AVERAGE(VLOOKUP($G18,'NO TOCARListas'!$M$1:$S$6,7,0),VLOOKUP($H18,'NO TOCARListas'!$M$1:$S$6,7,0),VLOOKUP($I18,'NO TOCARListas'!$M$1:$S$6,7,0),VLOOKUP($J18,'NO TOCARListas'!$M$1:$S$6,7,0),VLOOKUP($K18,'NO TOCARListas'!$R$1:$S$6,2,0),VLOOKUP($L18,'NO TOCARListas'!$Q$1:$S$6,3,0)))) | N18: =IF($D18="","",$F18*$M18)
F19: =IF($D19="","",AVERAGE(VLOOKUP($D19,'NO TOCARListas'!$K$1:$S$6,9,0),(VLOOKUP($E19,'NO TOCARListas'!$L$1:$S$6,8,0)))) | M19: =IF($G19="","",(AVERAGE(VLOOKUP($G19,'NO TOCARListas'!$M$1:$S$6,7,0),VLOOKUP($H19,'NO TOCARListas'!$M$1:$S$6,7,0),VLOOKUP($I19,'NO TOCARListas'!$M$1:$S$6,7,0),VLOOKUP($J19,'NO TOCARListas'!$M$1:$S$6,7,0),VLOOKUP($K19,'NO TOCARListas'!$R$1:$S$6,2,0),VLOOKUP($L19,'NO TOCARListas'!$Q$1:$S$6,3,0)))) | N19: =IF($D19="","",$F19*$M19)
F20: =IF($D20="","",AVERAGE(VLOOKUP($D20,'NO TOCARListas'!$K$1:$S$6,9,0),(VLOOKUP($E20,'NO TOCARListas'!$L$1:$S$6,8,0)))) | M20: =IF($G20="","",(AVERAGE(VLOOKUP($G20,'NO TOCARListas'!$M$1:$S$6,7,0),VLOOKUP($H20,'NO TOCARListas'!$M$1:$S$6,7,0),VLOOKUP($I20,'NO TOCARListas'!$M$1:$S$6,7,0),VLOOKUP($J20,'NO TOCARListas'!$M$1:$S$6,7,0),VLOOKUP($K20,'NO TOCARListas'!$R$1:$S$6,2,0),VLOOKUP($L20,'NO TOCARListas'!$Q$1:$S$6,3,0)))) | N20: =IF($D20="","",$F20*$M20)
F21: =IF($D21="","",AVERAGE(VLOOKUP($D21,'NO TOCARListas'!$K$1:$S$6,9,0),(VLOOKUP($E21,'NO TOCARListas'!$L$1:$S$6,8,0)))) | M21: =IF($G21="","",(AVERAGE(VLOOKUP($G21,'NO TOCARListas'!$M$1:$S$6,7,0),VLOOKUP($H21,'NO TOCARListas'!$M$1:$S$6,7,0),VLOOKUP($I21,'NO TOCARListas'!$M$1:$S$6,7,0),VLOOKUP($J21,'NO TOCARListas'!$M$1:$S$6,7,0),VLOOKUP($K21,'NO TOCARListas'!$R$1:$S$6,2,0),VLOOKUP($L21,'NO TOCARListas'!$Q$1:$S$6,3,0)))) | N21: =IF($D21="","",$F21*$M21)
... F103: =IF($D103="","",AVERAGE(VLOOKUP($D103,'NO TOCARListas'!$K$1:$S$6,9,0),(VLOOKUP($E103,'NO TOCARListas'!$L$1:$S$6,8,0)))) | M103: =IF($G103="","",(AVERAGE(VLOOKUP($G103,'NO TOCARListas'!$M$1:$S$6,7,0),VLOOKUP($H103,'NO TOCARListas'!$M$1:$S$6,7,0),VLOOKUP($I103,'NO TOCARListas'!$M$1:$S$6,7,0),VLOOKUP($J103,'NO TOCARListas'!$M$1:$S$6,7,0),VLOOKUP($K103,'NO TOCARListas'!$R$1:$S$6,2,0),VLOOKUP($L103,'NO TOCARListas'!$Q$1:$S$6,3,0)))) | N103: =IF($D103="","",$F103*$M103)

Sheet NO TOCARListas
A1: LÍMITE DE OPORTUNIDAD: | C1: LIMITE DE RIESGO: | E1: Tipo | F1: Prioridad | G1: Tratamiento | H1: Clasificación | I1: Procesos | K1: Probabilidad | L1: Ocurrencias | M1: Potencial | N1: Violación | O1: Costo de correción | P1: Reputación/Imagen R | Q1: Costo Oportunidad | R1: Reputación/Imagen O | S1: Score | T1: Éxito
A2: 5 | C2: 8 | E2: Externo | F2: Emergencia | G2: No Acciones: Aceptar el riesgo por decisión directiva | H2: Oportunidad | I2: Todos los procesos | K2: Raro / no aplicable | L2: No se ha producido en los últimos 5 años | M2: No hay / No Aplica | N2: No hay / No Aplica | O2: $ 0 | P2: No hay / No Aplica | Q2: > $500,000 | R2: No impacta / NA | S2: 1 | T2: Oportunidad fallida
C3: CONSIDERACIÓN LÍMITE DE RIESGO | E3: Interno | F3: Alta | G3: Registro de riesgos / FMEA | H3: Riesgo | I3: Direccion Estratégico | K3: Poco probable que ocurra/Improbable | L3: Se ha producido al menos de una vez en los últimos 5 años. | M3: Menor | N3: Posibles demandas | O3: < $10,000 | P3: Minima/Todos los funcionarios | Q3: > $100,000 | R3: Impacto minimo | S3: 2 | T3: Oportunidad abandonada
C4: 5 | F4: Media | G4: Análisis de causa raíz | H4: Neutral | I4: Tramite de iniciativas legislativas y proposiciones | K4: Posible que ocurra | L4: Se ha producido en los últimos 2 años. | M4: Moderado | N4: Investigación disciplinaria | O4: < $100,000 | P4: Moderada/Usuarios ciudad | Q4: < $100,000 | R4: Impacto moderado | S4: 3 | T4: Se trataron algunas expectativas
F5: Baja | G5: Auditorías internas | H5: Mezcla | I5: Control Politico- Administrativo | K5: Probable que ocurra | L5: Se ha producido al menos de una vez en los últimos 2 años. | M5: Alto | N5: Investigación fiscal | O5: > $100,000 | P5: Severa/Usuarios región | Q5: < $10,000 | R5: Buen impacto | S5: 4 | T5: Se trataron todas las expectativas
G6: Registro de oportunidades | I6: Financiero y presupuestal | K6: Es casi seguro que ocurra | L6: Se ha producido mas de una vez en el año. | M6: Muy alto | N6: Investigación sanción | O6: > $500,000 | P6: Muy severa/ Imagen del pais | Q6: $0 ó N/A | R6: Gran impacto | S6: 5 | T6: Se excedieron las expectativas
G7: (CAR) Solicitud de acción correctiva | I7: Gestión Documental
G8: Auditorías a proveedores | I8: Comunicaciones y Relaciones Corporativas
A9: Tendencias Oportunidades | G9: Otras auditorías | I9: Gestion de Talento Humano
A10: Número de iniciativas de mejora abiertas | C10: =COUNTIF(Oportunidades!Q5:Q103,"ABIERTA") -> 5 | G10: Actividades de revisión por la dirección | I10: Proceso de Adquisición de bienes y servicios
A11: Número de iniciativas de mejora cerradas | C11: =COUNTIF(Oportunidades!Q5:Q103,"CERRADA") -> 0 | G11: Mejora de la comercialización | I11: Seguimiento, Evaluación y Mejora
A12: Total de iniciativas de mejora hasta la fecha | C12: =COUNTA(Oportunidades!C5:C103) -> 5 | G12: Otras | I12: Infraestructura
A13: =T2 -> Oportunidad fallida | C13: =COUNTIF(Oportunidades!$P$5:$P$103,'NO TOCARListas'!A13) -> 0 | I13: Adquisicion de Bienes y Servicios
A14: =T3 -> Oportunidad abandonada | C14: =COUNTIF(Oportunidades!$P$5:$P$103,'NO TOCARListas'!A14) -> 0
A15: =T4 -> Se trataron algunas expectativas | C15: =COUNTIF(Oportunidades!$P$5:$P$103,'NO TOCARListas'!A15) -> 3 | V15: (Requerido para los factores de riesgo >=
A16: =T5 -> Se trataron todas las expectativas | C16: =COUNTIF(Oportunidades!$P$5:$P$103,'NO TOCARListas'!A16) -> 2 | V16: , sugerido para factores de riesgo entre
A17: =T6 -> Se excedieron las expectativas | C17: =COUNTIF(Oportunidades!$P$5:$P$103,'NO TOCARListas'!A17) -> 0
V18: =CONCATENATE(V15,C2,V17,V16,C4," y ",C2,")") -> (Requerido para los factores de riesgo >=8, sugerido para factores de riesgo entre 5 y 8)
A20: Tendencias Riesgos
A21: Riesgos totales procesados | C21: =COUNTA('Riesgos '!C6:C102) -> 4 | V21: Plan de persecución de oportunidades (sugerida para factor de oportunidades >=
A22: Riesgos totales que requieren acción | C22: =COUNTIF('Riesgos '!N6:N102,">="&'NO TOCARListas'!C2) -> 3 | V22: ) Puede referenciar a documentos de planificación externa
A23: Riesgos totales que sugieren acción | C23: =C21-C22-C24 -> 1
A24: Total de los riesgos aceptados sin acción | C24: =COUNTIF('Riesgos '!N6:N102,"<"&'NO TOCARListas'!C4) -> 0 | V24: =CONCATENATE(V21,A2,V22) -> Plan de persecución de oportunidades (sugerida para factor de oportunidades >=5) Puede referenciar a documentos de planificación externa
